BEGIN:VCALENDAR
VERSION:2.0
PRODID:spatie/icalendar-generator
DESCRIPTION:Veranstaltungen von Maria-Wächtler-Gymnasium
X-WR-CALDESC:Veranstaltungen von Maria-Wächtler-Gymnasium
REFRESH-INTERVAL;VALUE=DURATION:PT1440M
X-PUBLISHED-TTL:PT1440M
BEGIN:VTIMEZONE
TZID:Europe/Berlin
BEGIN:STANDARD
DTSTART:20251026T030000Z
TZOFFSETFROM:+0200
TZOFFSETTO:+0100
END:STANDARD
BEGIN:DAYLIGHT
DTSTART:20260329T020000Z
TZOFFSETFROM:+0100
TZOFFSETTO:+0200
END:DAYLIGHT
BEGIN:STANDARD
DTSTART:20261025T030000Z
TZOFFSETFROM:+0200
TZOFFSETTO:+0100
END:STANDARD
END:VTIMEZONE
BEGIN:VTIMEZONE
TZID:UTC
BEGIN:STANDARD
DTSTART:20250727T121420Z
TZOFFSETFROM:+0000
TZOFFSETTO:+0000
END:STANDARD
END:VTIMEZONE
BEGIN:VEVENT
UID:2084-1936
DTSTAMP:20260423T121420Z
SUMMARY:Klassensprecherinnen und Klassensprecher Isa: Monatstreffen
LOCATION:
ORGANIZER;CN=Christian Müller:MAILTO:chris.mueller@live.de
DTSTART;TZID=Europe/Berlin;VALUE=DATE:20260424
DTEND;TZID=Europe/Berlin;VALUE=DATE:20260425
X-ALT-DESC;FMTTYPE=TEXT/HTML:nach Plan Aula Isa
CATEGORIES:General
URL;VALUE=URI:https://www.mwg-essen.de/termine/?cid=my-calendar&#038;mc_id=
 2084&#038;vcal=2084
METHOD:PUBLISH
END:VEVENT
END:VCALENDAR