BEGIN:VCALENDAR
VERSION:2.0
PRODID:spatie/icalendar-generator
DESCRIPTION:Veranstaltungen von Maria-Wächtler-Gymnasium
X-WR-CALDESC:Veranstaltungen von Maria-Wächtler-Gymnasium
REFRESH-INTERVAL;VALUE=DURATION:PT1440M
X-PUBLISHED-TTL:PT1440M
BEGIN:VTIMEZONE
TZID:Europe/Berlin
BEGIN:STANDARD
DTSTART:20251026T030000Z
TZOFFSETFROM:+0200
TZOFFSETTO:+0100
END:STANDARD
BEGIN:DAYLIGHT
DTSTART:20260329T020000Z
TZOFFSETFROM:+0100
TZOFFSETTO:+0200
END:DAYLIGHT
END:VTIMEZONE
BEGIN:VTIMEZONE
TZID:UTC
BEGIN:STANDARD
DTSTART:20250727T132133Z
TZOFFSETFROM:+0000
TZOFFSETTO:+0000
END:STANDARD
END:VTIMEZONE
BEGIN:VEVENT
UID:1994-1855
DTSTAMP:20260423T132133Z
SUMMARY:Eltern Jg. 9/8*: Parents' Day\, Rotterdam in Essen
LOCATION:
ORGANIZER;CN=Christian Müller:MAILTO:chris.mueller@live.de
DTSTART;TZID=Europe/Berlin:20260418T100000
DTEND;TZID=Europe/Berlin:20260418T110000
X-ALT-DESC;FMTTYPE=TEXT/HTML:
CATEGORIES:Eltern,  Jg. 8,  Jg. 9
URL;VALUE=URI:https://www.mwg-essen.de/termine/?cid=my-calendar&#038;mc_id=
 1994&#038;vcal=1994
METHOD:PUBLISH
END:VEVENT
END:VCALENDAR